BEGIN:VCALENDAR
VERSION:2.0
PRODID:-//WP EVENT Manager Ical//NONSGML Events//EN
CALSCALE:GREGORIAN
BEGIN:VTIMEZONE
TZID:Europe/Zurich
BEGIN:STANDARD
DTSTART:19700101T000000
TZOFFSETFROM:+0530
TZOFFSETTO:+0530
END:STANDARD
END:VTIMEZONE
BEGIN:VEVENT
UID:69ed8132ee28b@www.swiss-pdns.ch
DTSTAMP:20260426T030626Z
DTSTART;TZID=Europe/Zurich:20260917T090000
DTEND;TZID=Europe/Zurich:20260918T170000
LOCATION:memox @ Novu Campus | Zürich Flughafen The Circle, The Circle 60 Novu Campus, 8302 Zürich, Zürich
SUMMARY:Save the date: Swiss Parkinson Nurse Symposium 2026
DESCRIPTION:Das zweitägige Symposium richtet sich gezielt an Parkinson Nurses, die ihre Rolle in der Versorgung weiterentwickeln und ihr Fachwissen auf den neuesten Stand bringen möchten. Im Mittelpunkt stehen aktuelle Forschungsergebnisse, die komplexe Versorgung von Menschen mit Parkinson, nicht-motorische Symptome sowie Strategien der Therapieeskalation. Ein besonderer Fokus liegt auf der Sichtbarkeit und Zukunft der Parkinson Nurses – inklusive interprofessioneller Podiumsdiskussion. Fachvorträge, interaktive Sessions und intensiver Austausch liefern konkrete Impulse, praxisnahe Tools und wertvolle Vernetzung für den Berufsalltag.&nbsp;
END:VEVENT
END:VCALENDAR