BEGIN:VCALENDAR
VERSION:2.0
PRODID:-//WP EVENT Manager Ical//NONSGML Events//EN
CALSCALE:GREGORIAN
BEGIN:VTIMEZONE
TZID:Europe/Zurich
BEGIN:STANDARD
DTSTART:19700101T000000
TZOFFSETFROM:+0530
TZOFFSETTO:+0530
END:STANDARD
END:VTIMEZONE
BEGIN:VEVENT
UID:69ed6a996a49b@www.swiss-pdns.ch
DTSTAMP:20260426T013001Z
DTSTART;TZID=Europe/Zurich:20260430T133000
DTEND;TZID=Europe/Zurich:20260430T173000
LOCATION:Auditorium Maurice E. Müller, Inselspital Bern
SUMMARY:Save the Date: Berner Therapienetzwerk Parkinson 2026
DESCRIPTION:Das Berner Therapienetzwerk Parkinson lädt am Donnerstag, 30. April 2026, herzlich zur nächsten Fachtagung ein.Die Veranstaltung bringt Fachpersonen aus Medizin, Pflege und Therapie zusammen, um aktuelle Entwicklungen, Forschungsergebnisse und praktische Ansätze im Bereich Parkinson und Bewegungsstörungen zu diskutieren.Weitere Informationen zum Programm und zur Anmeldung folgen zu einem späteren Zeitpunkt auf der Website des Zentrums für Parkinson und Bewegungsstörungen am Inselspital Bern.&nbsp;
END:VEVENT
END:VCALENDAR