BEGIN:VCALENDAR
VERSION:2.0
PRODID:-//WP EVENT Manager Ical//NONSGML Events//EN
CALSCALE:GREGORIAN
BEGIN:VTIMEZONE
TZID:Europe/Zurich
BEGIN:STANDARD
DTSTART:19700101T000000
TZOFFSETFROM:+0530
TZOFFSETTO:+0530
END:STANDARD
END:VTIMEZONE
BEGIN:VEVENT
UID:69ed3c9dab6e6@www.swiss-pdns.ch
DTSTAMP:20260425T221349Z
DTSTART;TZID=Europe/Zurich:20251005T191211
DTEND;TZID=Europe/Zurich:20251009T191211
LOCATION:Hawaii Convention Center 1801 Kalākaua Avenue Honolulu, HI 96815
SUMMARY:International Congress of Parkinson’s Disease and Movement Disorders
DESCRIPTION:The International Parkinson and Movement Disorder Society (MDS) gathers thousands of the field&#8217;s clinicians, researchers, trainees and industry supporters with an interest in the current research and approaches for the diagnosis and treatment of movement disorders on an annual basis at its International Congress of Parkinson&#8217;s Disease and Movement Disorders®.The purpose of the MDS International Congress is to share ideas, encourage interest among all those involved in the care and research of movement disorders, to participate in the activities of MDS, and to advance the related clinical and scientific discipline.
END:VEVENT
END:VCALENDAR