BEGIN:VCALENDAR
VERSION:2.0
PRODID:-//WP EVENT Manager Ical//NONSGML Events//EN
CALSCALE:GREGORIAN
BEGIN:VTIMEZONE
TZID:Europe/Zurich
BEGIN:STANDARD
DTSTART:19700101T000000
TZOFFSETFROM:+0530
TZOFFSETTO:+0530
END:STANDARD
END:VTIMEZONE
BEGIN:VEVENT
UID:69ed510ddbdc8@www.swiss-pdns.ch
DTSTAMP:20260425T234101Z
DTSTART;TZID=Europe/Zurich:20260416T205247
DTEND;TZID=Europe/Zurich:20260418T205247
LOCATION:Leipzig, Deutschland
SUMMARY:DPG-Kongress 2026 – Einladung nach Leipzig
DESCRIPTION:Deutscher Kongress für Parkinson und BewegungsstörungenDer Deutsche Kongress für Parkinson und Bewegungsstörungen findet in der Kongresshalle am Zoo Leipzig statt. Unter dem Motto „Vom Gen zum System – der kinetische Code“ rückt er den Bogen von molekularen Grundlagen bis zur Systemtherapie in den Fokus. Neu ist die enge Zusammenarbeit mit den Arbeitsgemeinschaften Botulinumtoxin (AKBoNT) und Tiefe Hirnstimulation (AG THS), die den Kongress gemeinsam mit der DPG gestalten.Neben Themen wie Genetik, Biomarker, medikamentöse und nicht-medikamentöse Therapien sowie Prävention erwartet die Teilnehmenden ein vielseitiges Programm mit praxisnahen Workshops, Fallseminaren und einem Nachwuchssymposium. Der Kongress fördert den Austausch zwischen Berufsgruppen – auch Pflegekräfte, Therapeut:innen und Psycholog:innen sind gezielt angesprochen, u. a. mit Hands-on-Kursen, einem Multidisziplinären Forum und einer Akademie.
END:VEVENT
END:VCALENDAR