BEGIN:VCALENDAR
VERSION:2.0
PRODID:-//WP EVENT Manager Ical//NONSGML Events//EN
CALSCALE:GREGORIAN
BEGIN:VTIMEZONE
TZID:Europe/Zurich
BEGIN:STANDARD
DTSTART:19700101T000000
TZOFFSETFROM:+0530
TZOFFSETTO:+0530
END:STANDARD
END:VTIMEZONE
BEGIN:VEVENT
UID:69ed97146e963@www.swiss-pdns.ch
DTSTAMP:20260426T043948Z
DTSTART;TZID=Europe/Zurich:19700101T000000
DTEND;TZID=Europe/Zurich:20260426T235959
LOCATION:Online
SUMMARY:Segna la data: Swiss Parkinson Nurse Symposium 2026
DESCRIPTION:Lo Swiss Parkinson Nurse Symposium 2026 si terrà il 17 e 18 settembre 2026 presso l&#8217;aeroporto di Zurigo (Circle). Si prega di segnare la data, seguiranno maggiori dettagli.
END:VEVENT
END:VCALENDAR