BEGIN:VCALENDAR
VERSION:2.0
PRODID:-//WP EVENT Manager Ical//NONSGML Events//EN
CALSCALE:GREGORIAN
BEGIN:VTIMEZONE
TZID:Europe/Zurich
BEGIN:STANDARD
DTSTART:19700101T000000
TZOFFSETFROM:+0530
TZOFFSETTO:+0530
END:STANDARD
END:VTIMEZONE
BEGIN:VEVENT
UID:69ed800cb2e15@www.swiss-pdns.ch
DTSTAMP:20260426T030132Z
DTSTART;TZID=Europe/Zurich:19700101T000000
DTEND;TZID=Europe/Zurich:20260426T235959
LOCATION:Online
SUMMARY:Salva la data: Rete Terapeutica Parkinson di Berna 2026
DESCRIPTION:La Rete Terapeutica Parkinson di Berna invita cordialmente al prossimo convegno giovedì 30 aprile 2026.L&#8217;evento riunisce professionisti della medicina, dell&#8217;assistenza infermieristica e della terapia per discutere gli sviluppi attuali, i risultati della ricerca e gli approcci pratici nel campo del Parkinson e dei disturbi del movimento.Ulteriori informazioni sul programma e sull&#8217;iscrizione seguiranno in un secondo momento sul sito web del Centro Parkinson e Disturbi del Movimento presso l&#8217;Inselspital di Berna.&nbsp;
END:VEVENT
END:VCALENDAR