BEGIN:VCALENDAR
VERSION:2.0
PRODID:-//WP EVENT Manager Ical//NONSGML Events//EN
CALSCALE:GREGORIAN
BEGIN:VTIMEZONE
TZID:Europe/Zurich
BEGIN:STANDARD
DTSTART:19700101T000000
TZOFFSETFROM:+0530
TZOFFSETTO:+0530
END:STANDARD
END:VTIMEZONE
BEGIN:VEVENT
UID:69ed7fb3b142d@www.swiss-pdns.ch
DTSTAMP:20260426T030003Z
DTSTART;TZID=Europe/Zurich:19700101T000000
DTEND;TZID=Europe/Zurich:20260426T235959
LOCATION:Online
SUMMARY:Giornata informativa Parkinson Svizzera
DESCRIPTION:Programma14.00  Caffè di benvenuto14.15 Apertura della giornataProf. dr. med. Alain Kaelin, direttore medico e scientifico NeurocentroIstituto di Neuroscienze, Cliniche della Svizzera Italiana14.30 Evoluzione clinica e fluttuazioniPD dr. med. Salvatore Galati, caposervizio, Neurocentro14.50 La terapia farmacologica e le terapie avanzateDr.ssa med. Ilaria Bertaina, capoclinica, Neurocentro15.10 Approccio non farmacologicoDr. med. Vittorio Biglio, capoclinicaClinica Hildebrand Centro di Riabilitazione Brissago15.30 Pausa15.50 L&#8217;approccio ergoterapicoMarco Moranzoni, capo reparto ergoterapiaClinica Hildebrand Centro di riabilitazione Brissago16.05 LSVT-LoudClaudia Fasola, logopedista16.20 Supporto infermieristico: aspetti pratici e presentazione del servizioSara Pavarotti, infermiera Parkinson e consulente per le cure16.35 Domande e discussione finale16.45 Aperitivo in comune
END:VEVENT
END:VCALENDAR