BEGIN:VCALENDAR
VERSION:2.0
PRODID:-//WP EVENT Manager Ical//NONSGML Events//EN
CALSCALE:GREGORIAN
BEGIN:VTIMEZONE
TZID:Europe/Zurich
BEGIN:STANDARD
DTSTART:19700101T000000
TZOFFSETFROM:+0530
TZOFFSETTO:+0530
END:STANDARD
END:VTIMEZONE
BEGIN:VEVENT
UID:69ed6986afd28@www.swiss-pdns.ch
DTSTAMP:20260426T012526Z
DTSTART;TZID=Europe/Zurich:19700101T000000
DTEND;TZID=Europe/Zurich:20260426T235959
LOCATION:Online
SUMMARY:Congresso DPG 2026 – Invito a Lipsia
DESCRIPTION:Congresso Tedesco sul Parkinson e i Disturbi del MovimentoIl Congresso Tedesco sul Parkinson e i Disturbi del Movimento si terrà nel Centro Congressi allo Zoo di Lipsia. Con il motto “Dal gene al sistema &#8211; il codice cinetico”, si concentra sul percorso dalle basi molecolari alla terapia sistemica. Una novità è la stretta collaborazione con i gruppi di lavoro sulla tossina botulinica (AKBoNT) e sulla stimolazione cerebrale profonda (AG THS), che organizzano il congresso insieme alla DPG.  Oltre a temi come genetica, biomarcatori, terapie farmacologiche e non farmacologiche e prevenzione, i partecipanti possono aspettarsi un programma variegato con workshop pratici, seminari su casi clinici e un simposio per giovani ricercatori. Il congresso promuove lo scambio tra gruppi professionali &#8211; anche infermieri, terapisti e psicologi sono specificamente invitati, tra l&#8217;altro con corsi pratici, un forum multidisciplinare e un&#8217;accademia.
END:VEVENT
END:VCALENDAR